BEGIN:VCALENDAR
VERSION:2.0
PRODID:-//Village of Bayview - ECPv6.15.20//NONSGML v1.0//EN
CALSCALE:GREGORIAN
METHOD:PUBLISH
X-WR-CALNAME:Village of Bayview
X-ORIGINAL-URL:https://villageofbayview.com
X-WR-CALDESC:Events for Village of Bayview
REFRESH-INTERVAL;VALUE=DURATION:PT1H
X-Robots-Tag:noindex
X-PUBLISHED-TTL:PT1H
BEGIN:VTIMEZONE
TZID:America/New_York
BEGIN:DAYLIGHT
TZOFFSETFROM:-0500
TZOFFSETTO:-0400
TZNAME:EDT
DTSTART:20240310T070000
END:DAYLIGHT
BEGIN:STANDARD
TZOFFSETFROM:-0400
TZOFFSETTO:-0500
TZNAME:EST
DTSTART:20241103T060000
END:STANDARD
BEGIN:DAYLIGHT
TZOFFSETFROM:-0500
TZOFFSETTO:-0400
TZNAME:EDT
DTSTART:20250309T070000
END:DAYLIGHT
BEGIN:STANDARD
TZOFFSETFROM:-0400
TZOFFSETTO:-0500
TZNAME:EST
DTSTART:20251102T060000
END:STANDARD
BEGIN:DAYLIGHT
TZOFFSETFROM:-0500
TZOFFSETTO:-0400
TZNAME:EDT
DTSTART:20260308T070000
END:DAYLIGHT
BEGIN:STANDARD
TZOFFSETFROM:-0400
TZOFFSETTO:-0500
TZNAME:EST
DTSTART:20261101T060000
END:STANDARD
END:VTIMEZONE
BEGIN:VEVENT
DTSTART;TZID=America/New_York:20251104T190000
DTEND;TZID=America/New_York:20251104T200000
DTSTAMP:20260423T201622
CREATED:20251118T205617Z
LAST-MODIFIED:20251118T205617Z
UID:3522-1762282800-1762286400@villageofbayview.com
SUMMARY:Council Meeting
DESCRIPTION:
URL:https://villageofbayview.com/event/council-meeting/
LOCATION:Village Hall\, 304 E BayView Drive\, Sandusky\, OH\, 44870\, United States
END:VEVENT
BEGIN:VEVENT
DTSTART;TZID=America/New_York:20251031T180000
DTEND;TZID=America/New_York:20251031T193000
DTSTAMP:20260423T201622
CREATED:20251023T201936Z
LAST-MODIFIED:20251023T201936Z
UID:3511-1761933600-1761939000@villageofbayview.com
SUMMARY:Trick Or Treat For Halloween
DESCRIPTION:
URL:https://villageofbayview.com/event/trick-or-treat-for-halloween/
LOCATION:Villagewide\, Bay View
END:VEVENT
END:VCALENDAR