BEGIN:VCALENDAR
VERSION:2.0
PRODID:-//Village of Bayview - ECPv6.15.20//NONSGML v1.0//EN
CALSCALE:GREGORIAN
METHOD:PUBLISH
X-WR-CALNAME:Village of Bayview
X-ORIGINAL-URL:https://villageofbayview.com
X-WR-CALDESC:Events for Village of Bayview
REFRESH-INTERVAL;VALUE=DURATION:PT1H
X-Robots-Tag:noindex
X-PUBLISHED-TTL:PT1H
BEGIN:VTIMEZONE
TZID:America/New_York
BEGIN:DAYLIGHT
TZOFFSETFROM:-0500
TZOFFSETTO:-0400
TZNAME:EDT
DTSTART:20240310T070000
END:DAYLIGHT
BEGIN:STANDARD
TZOFFSETFROM:-0400
TZOFFSETTO:-0500
TZNAME:EST
DTSTART:20241103T060000
END:STANDARD
BEGIN:DAYLIGHT
TZOFFSETFROM:-0500
TZOFFSETTO:-0400
TZNAME:EDT
DTSTART:20250309T070000
END:DAYLIGHT
BEGIN:STANDARD
TZOFFSETFROM:-0400
TZOFFSETTO:-0500
TZNAME:EST
DTSTART:20251102T060000
END:STANDARD
BEGIN:DAYLIGHT
TZOFFSETFROM:-0500
TZOFFSETTO:-0400
TZNAME:EDT
DTSTART:20260308T070000
END:DAYLIGHT
BEGIN:STANDARD
TZOFFSETFROM:-0400
TZOFFSETTO:-0500
TZNAME:EST
DTSTART:20261101T060000
END:STANDARD
BEGIN:DAYLIGHT
TZOFFSETFROM:-0500
TZOFFSETTO:-0400
TZNAME:EDT
DTSTART:20270314T070000
END:DAYLIGHT
BEGIN:STANDARD
TZOFFSETFROM:-0400
TZOFFSETTO:-0500
TZNAME:EST
DTSTART:20271107T060000
END:STANDARD
END:VTIMEZONE
BEGIN:VEVENT
DTSTART;TZID=America/New_York:20260324T190000
DTEND;TZID=America/New_York:20260324T200000
DTSTAMP:20260423T173337
CREATED:20260302T205026Z
LAST-MODIFIED:20260302T205026Z
UID:3644-1774378800-1774382400@villageofbayview.com
SUMMARY:Zoning Meeting
DESCRIPTION:
URL:https://villageofbayview.com/event/zoning-meeting-5/
LOCATION:Village Hall\, 304 E BayView Drive\, Sandusky\, OH\, 44870\, United States
END:VEVENT
BEGIN:VEVENT
DTSTART;TZID=America/New_York:20260317T190000
DTEND;TZID=America/New_York:20260317T200000
DTSTAMP:20260423T173337
CREATED:20260302T204938Z
LAST-MODIFIED:20260302T204938Z
UID:3642-1773774000-1773777600@villageofbayview.com
SUMMARY:Council Meeting
DESCRIPTION:
URL:https://villageofbayview.com/event/council-meeting-10/
LOCATION:Village Hall\, 304 E BayView Drive\, Sandusky\, OH\, 44870\, United States
END:VEVENT
BEGIN:VEVENT
DTSTART;VALUE=DATE:20260317
DTEND;VALUE=DATE:20260318
DTSTAMP:20260423T173337
CREATED:20260302T205219Z
LAST-MODIFIED:20260302T205219Z
UID:3646-1773705600-1773791999@villageofbayview.com
SUMMARY:St. Patrick's Day
DESCRIPTION:
URL:https://villageofbayview.com/event/st-patricks-day/
LOCATION:United States
END:VEVENT
BEGIN:VEVENT
DTSTART;TZID=America/New_York:20260303T190000
DTEND;TZID=America/New_York:20260303T200000
DTSTAMP:20260423T173337
CREATED:20260302T204843Z
LAST-MODIFIED:20260302T204843Z
UID:3640-1772564400-1772568000@villageofbayview.com
SUMMARY:Council Meeting
DESCRIPTION:
URL:https://villageofbayview.com/event/council-meeting-9/
LOCATION:Village Hall\, 304 E BayView Drive\, Sandusky\, OH\, 44870\, United States
END:VEVENT
BEGIN:VEVENT
DTSTART;TZID=America/New_York:20260224T190000
DTEND;TZID=America/New_York:20260224T200000
DTSTAMP:20260423T173337
CREATED:20260131T130248Z
LAST-MODIFIED:20260131T130248Z
UID:3614-1771959600-1771963200@villageofbayview.com
SUMMARY:Zoning Meeting
DESCRIPTION:
URL:https://villageofbayview.com/event/zoning-meeting-4/
LOCATION:Village Hall\, 304 E BayView Drive\, Sandusky\, OH\, 44870\, United States
END:VEVENT
BEGIN:VEVENT
DTSTART;TZID=America/New_York:20260217T190000
DTEND;TZID=America/New_York:20260217T200000
DTSTAMP:20260423T173337
CREATED:20260131T130143Z
LAST-MODIFIED:20260131T130143Z
UID:3612-1771354800-1771358400@villageofbayview.com
SUMMARY:Council Meeting
DESCRIPTION:
URL:https://villageofbayview.com/event/council-meeting-8/
LOCATION:Village Hall\, 304 E BayView Drive\, Sandusky\, OH\, 44870\, United States
END:VEVENT
BEGIN:VEVENT
DTSTART;VALUE=DATE:20260216
DTEND;VALUE=DATE:20260217
DTSTAMP:20260423T173337
CREATED:20260131T130819Z
LAST-MODIFIED:20260131T130819Z
UID:3620-1771200000-1771286399@villageofbayview.com
SUMMARY:Presidents' Day
DESCRIPTION:
URL:https://villageofbayview.com/event/presidents-day/
LOCATION:United States
END:VEVENT
BEGIN:VEVENT
DTSTART;VALUE=DATE:20260214
DTEND;VALUE=DATE:20260215
DTSTAMP:20260423T173337
CREATED:20260131T130556Z
LAST-MODIFIED:20260131T130556Z
UID:3618-1771027200-1771113599@villageofbayview.com
SUMMARY:Valentine's Day
DESCRIPTION:
URL:https://villageofbayview.com/event/valentines-day/
LOCATION:United States
END:VEVENT
BEGIN:VEVENT
DTSTART;TZID=America/New_York:20260203T190000
DTEND;TZID=America/New_York:20260203T200000
DTSTAMP:20260423T173337
CREATED:20260131T130059Z
LAST-MODIFIED:20260131T130059Z
UID:3610-1770145200-1770148800@villageofbayview.com
SUMMARY:Council Meeting
DESCRIPTION:
URL:https://villageofbayview.com/event/council-meeting-7/
LOCATION:Village Hall\, 304 E BayView Drive\, Sandusky\, OH\, 44870\, United States
END:VEVENT
BEGIN:VEVENT
DTSTART;VALUE=DATE:20260202
DTEND;VALUE=DATE:20260203
DTSTAMP:20260423T173337
CREATED:20260131T130453Z
LAST-MODIFIED:20260131T130453Z
UID:3616-1769990400-1770076799@villageofbayview.com
SUMMARY:Groundhog Day
DESCRIPTION:
URL:https://villageofbayview.com/event/groundhog-day/
LOCATION:United States
END:VEVENT
BEGIN:VEVENT
DTSTART;TZID=America/New_York:20260127T190000
DTEND;TZID=America/New_York:20260127T200000
DTSTAMP:20260423T173337
CREATED:20251231T130109Z
LAST-MODIFIED:20251231T130109Z
UID:3576-1769540400-1769544000@villageofbayview.com
SUMMARY:Zoning Meeting
DESCRIPTION:
URL:https://villageofbayview.com/event/zoning-meeting-3/
LOCATION:Village Hall\, 304 E BayView Drive\, Sandusky\, OH\, 44870\, United States
END:VEVENT
BEGIN:VEVENT
DTSTART;TZID=America/New_York:20260120T190000
DTEND;TZID=America/New_York:20260120T200000
DTSTAMP:20260423T173337
CREATED:20251231T130023Z
LAST-MODIFIED:20251231T130023Z
UID:3574-1768935600-1768939200@villageofbayview.com
SUMMARY:Council Meeting
DESCRIPTION:
URL:https://villageofbayview.com/event/council-meeting-6/
LOCATION:Village Hall\, 304 E BayView Drive\, Sandusky\, OH\, 44870\, United States
END:VEVENT
BEGIN:VEVENT
DTSTART;VALUE=DATE:20260119
DTEND;VALUE=DATE:20260120
DTSTAMP:20260423T173337
CREATED:20251231T130413Z
LAST-MODIFIED:20251231T130413Z
UID:3580-1768780800-1768867199@villageofbayview.com
SUMMARY:Martin Luther King Day
DESCRIPTION:
URL:https://villageofbayview.com/event/martin-luther-king-day/
LOCATION:United States
END:VEVENT
BEGIN:VEVENT
DTSTART;TZID=America/New_York:20260106T190000
DTEND;TZID=America/New_York:20260106T200000
DTSTAMP:20260423T173337
CREATED:20251231T125929Z
LAST-MODIFIED:20251231T125929Z
UID:3570-1767726000-1767729600@villageofbayview.com
SUMMARY:Council Meeting
DESCRIPTION:
URL:https://villageofbayview.com/event/council-meeting-5/
LOCATION:Village Hall\, 304 E BayView Drive\, Sandusky\, OH\, 44870\, United States
END:VEVENT
BEGIN:VEVENT
DTSTART;VALUE=DATE:20260101
DTEND;VALUE=DATE:20260102
DTSTAMP:20260423T173337
CREATED:20251231T130159Z
LAST-MODIFIED:20251231T130159Z
UID:3578-1767225600-1767311999@villageofbayview.com
SUMMARY:New Year's Day
DESCRIPTION:
URL:https://villageofbayview.com/event/new-years-day/
LOCATION:United States
END:VEVENT
BEGIN:VEVENT
DTSTART;VALUE=DATE:20251225
DTEND;VALUE=DATE:20251226
DTSTAMP:20260423T173337
CREATED:20251201T130703Z
LAST-MODIFIED:20251201T130703Z
UID:3545-1766620800-1766707199@villageofbayview.com
SUMMARY:Christmas
DESCRIPTION:
URL:https://villageofbayview.com/event/christmas/
LOCATION:United States
END:VEVENT
BEGIN:VEVENT
DTSTART;VALUE=DATE:20251224
DTEND;VALUE=DATE:20251225
DTSTAMP:20260423T173337
CREATED:20251201T130619Z
LAST-MODIFIED:20251201T130619Z
UID:3543-1766534400-1766620799@villageofbayview.com
SUMMARY:Christmas Eve
DESCRIPTION:
URL:https://villageofbayview.com/event/christmas-eve/
LOCATION:United States
END:VEVENT
BEGIN:VEVENT
DTSTART;TZID=America/New_York:20251223T190000
DTEND;TZID=America/New_York:20251223T200000
DTSTAMP:20260423T173337
CREATED:20251201T130527Z
LAST-MODIFIED:20251201T130527Z
UID:3541-1766516400-1766520000@villageofbayview.com
SUMMARY:Zoning Meeting
DESCRIPTION:
URL:https://villageofbayview.com/event/zoning-meeting-2/
LOCATION:Village Hall\, 304 E BayView Drive\, Sandusky\, OH\, 44870\, United States
END:VEVENT
BEGIN:VEVENT
DTSTART;TZID=America/New_York:20251216T190000
DTEND;TZID=America/New_York:20251216T200000
DTSTAMP:20260423T173337
CREATED:20251201T130435Z
LAST-MODIFIED:20251201T130435Z
UID:3539-1765911600-1765915200@villageofbayview.com
SUMMARY:Council Meeting
DESCRIPTION:
URL:https://villageofbayview.com/event/council-meeting-4/
LOCATION:Village Hall\, 304 E BayView Drive\, Sandusky\, OH\, 44870\, United States
END:VEVENT
BEGIN:VEVENT
DTSTART;TZID=America/New_York:20251202T190000
DTEND;TZID=America/New_York:20251202T200000
DTSTAMP:20260423T173337
CREATED:20251201T130346Z
LAST-MODIFIED:20251201T130346Z
UID:3537-1764702000-1764705600@villageofbayview.com
SUMMARY:Council Meeting
DESCRIPTION:
URL:https://villageofbayview.com/event/council-meeting-3/
LOCATION:Village Hall\, 304 E BayView Drive\, Sandusky\, OH\, 44870\, United States
END:VEVENT
BEGIN:VEVENT
DTSTART;VALUE=DATE:20251127
DTEND;VALUE=DATE:20251128
DTSTAMP:20260423T173337
CREATED:20251118T205940Z
LAST-MODIFIED:20251118T205956Z
UID:3528-1764201600-1764287999@villageofbayview.com
SUMMARY:Thanksgiving
DESCRIPTION:
URL:https://villageofbayview.com/event/thanksgiving/
LOCATION:United States
END:VEVENT
BEGIN:VEVENT
DTSTART;TZID=America/New_York:20251125T190000
DTEND;TZID=America/New_York:20251125T200000
DTSTAMP:20260423T173337
CREATED:20251118T205755Z
LAST-MODIFIED:20251118T205755Z
UID:3526-1764097200-1764100800@villageofbayview.com
SUMMARY:Zoning Meeting
DESCRIPTION:
URL:https://villageofbayview.com/event/zoning-meeting/
LOCATION:Village Hall\, 304 E BayView Drive\, Sandusky\, OH\, 44870\, United States
END:VEVENT
BEGIN:VEVENT
DTSTART;TZID=America/New_York:20251118T190000
DTEND;TZID=America/New_York:20251118T200000
DTSTAMP:20260423T173337
CREATED:20251118T205707Z
LAST-MODIFIED:20251118T205707Z
UID:3524-1763492400-1763496000@villageofbayview.com
SUMMARY:Council Meeting
DESCRIPTION:
URL:https://villageofbayview.com/event/council-meeting-2/
LOCATION:Village Hall\, 304 E BayView Drive\, Sandusky\, OH\, 44870\, United States
END:VEVENT
BEGIN:VEVENT
DTSTART;TZID=America/New_York:20251104T190000
DTEND;TZID=America/New_York:20251104T200000
DTSTAMP:20260423T173337
CREATED:20251118T205617Z
LAST-MODIFIED:20251118T205617Z
UID:3522-1762282800-1762286400@villageofbayview.com
SUMMARY:Council Meeting
DESCRIPTION:
URL:https://villageofbayview.com/event/council-meeting/
LOCATION:Village Hall\, 304 E BayView Drive\, Sandusky\, OH\, 44870\, United States
END:VEVENT
BEGIN:VEVENT
DTSTART;TZID=America/New_York:20251031T180000
DTEND;TZID=America/New_York:20251031T193000
DTSTAMP:20260423T173337
CREATED:20251023T201936Z
LAST-MODIFIED:20251023T201936Z
UID:3511-1761933600-1761939000@villageofbayview.com
SUMMARY:Trick Or Treat For Halloween
DESCRIPTION:
URL:https://villageofbayview.com/event/trick-or-treat-for-halloween/
LOCATION:Villagewide\, Bay View
END:VEVENT
END:VCALENDAR